BEGIN:VCALENDAR
VERSION:2.0
PRODID:-//Foodie Bars - ECPv5.4.0.2//NONSGML v1.0//EN
CALSCALE:GREGORIAN
METHOD:PUBLISH
X-WR-CALNAME:Foodie Bars
X-ORIGINAL-URL:https://foodiebars.com
X-WR-CALDESC:Events for Foodie Bars
BEGIN:VTIMEZONE
TZID:UTC
BEGIN:STANDARD
TZOFFSETFROM:+0000
TZOFFSETTO:+0000
TZNAME:UTC
DTSTART:20180101T000000
END:STANDARD
END:VTIMEZONE
BEGIN:VEVENT
DTSTART;TZID=UTC:20180106T160000
DTEND;TZID=UTC:20180106T180000
DTSTAMP:20260423T161803
CREATED:20180103T222527Z
LAST-MODIFIED:20180103T222548Z
UID:1731-1515254400-1515261600@foodiebars.com
SUMMARY:Central Valley Whole Food Plant Based Nutrition talk and recipe demo!
DESCRIPTION:Join my family and me in Fresno for a talk\, book signing and cooking demo!
URL:https://foodiebars.com/event/central-valley-whole-food-plant-based-nutrition-talk-and-recipe-demo/
LOCATION:Fresno Health Department\, 1221 Fulton Mall\, Fresno\, CA\, 93721\, United States
END:VEVENT
END:VCALENDAR