BEGIN:VCALENDAR
VERSION:2.0
PRODID:-//Foodie Bars - ECPv5.4.0.2//NONSGML v1.0//EN
CALSCALE:GREGORIAN
METHOD:PUBLISH
X-WR-CALNAME:Foodie Bars
X-ORIGINAL-URL:https://foodiebars.com
X-WR-CALDESC:Events for Foodie Bars
BEGIN:VTIMEZONE
TZID:UTC
BEGIN:STANDARD
TZOFFSETFROM:+0000
TZOFFSETTO:+0000
TZNAME:UTC
DTSTART:20160101T000000
END:STANDARD
END:VTIMEZONE
BEGIN:VEVENT
DTSTART;TZID=UTC:20160416T180000
DTEND;TZID=UTC:20160416T200000
DTSTAMP:20260423T214345
CREATED:20160405T230933Z
LAST-MODIFIED:20160405T230933Z
UID:338-1460829600-1460836800@foodiebars.com
SUMMARY:Compassionate Living's Monthly Potluck (with speaker series)
DESCRIPTION:Topic: Smooth Digestion + The Foodie Bar Way book signing \nSaturday\, April 16 \nPotluck: 6pm\nPresentation with Q & A: ~7-8pm
URL:https://foodiebars.com/event/compassionate-livings-monthly-potluck-with-speaker-series/
LOCATION:Sonoma Humane Society\, 5345 Hwy 12 West  \, Santa Rosa\, CA\, 95407\, United States
ATTACH;FMTTYPE=image/jpeg:https://foodiebars.com/wp-content/uploads/2016/04/56fac5b1239f5.image_.jpg
END:VEVENT
END:VCALENDAR