BEGIN:VCALENDAR
VERSION:2.0
PRODID:-//Foodie Bars - ECPv5.4.0.2//NONSGML v1.0//EN
CALSCALE:GREGORIAN
METHOD:PUBLISH
X-WR-CALNAME:Foodie Bars
X-ORIGINAL-URL:https://foodiebars.com
X-WR-CALDESC:Events for Foodie Bars
BEGIN:VTIMEZONE
TZID:UTC
BEGIN:STANDARD
TZOFFSETFROM:+0000
TZOFFSETTO:+0000
TZNAME:UTC
DTSTART:20170101T000000
END:STANDARD
END:VTIMEZONE
BEGIN:VEVENT
DTSTART;TZID=UTC:20170404T181500
DTEND;TZID=UTC:20170404T203000
DTSTAMP:20260423T185206
CREATED:20170125T025642Z
LAST-MODIFIED:20170309T214546Z
UID:1641-1491329700-1491337800@foodiebars.com
SUMMARY:"Dining with a Doc" series (guest speaker)
DESCRIPTION:Timaree is going to be a guest speaker as part of this monthly series organized by Kari Jacobson\, RN. Call the office to register for this event (916) 487-8684 Timaree will also be signing copies of her book\, The Foodie Bar Way.
URL:https://foodiebars.com/event/dining-with-a-doc-series-guest-speaker/
LOCATION:Carmichael Seventh-day Adventist Church\, 4600 Winding Way\, Sacramento\, CA\, 95841\, United States
END:VEVENT
END:VCALENDAR