BEGIN:VCALENDAR
VERSION:2.0
PRODID:-//Foodie Bars - ECPv5.4.0.2//NONSGML v1.0//EN
CALSCALE:GREGORIAN
METHOD:PUBLISH
X-WR-CALNAME:Foodie Bars
X-ORIGINAL-URL:https://foodiebars.com
X-WR-CALDESC:Events for Foodie Bars
BEGIN:VTIMEZONE
TZID:UTC
BEGIN:STANDARD
TZOFFSETFROM:+0000
TZOFFSETTO:+0000
TZNAME:UTC
DTSTART:20160101T000000
END:STANDARD
END:VTIMEZONE
BEGIN:VEVENT
DTSTART;TZID=UTC:20161219T183000
DTEND;TZID=UTC:20161219T200000
DTSTAMP:20260423T204101
CREATED:20161104T020549Z
LAST-MODIFIED:20170125T020853Z
UID:1627-1482172200-1482177600@foodiebars.com
SUMMARY:Gift ideas - Can we give the gift of health?
DESCRIPTION:Timaree will speak to the Forks Over Knives Meetup group at Baagan in Rocklin about holiday gift ideas and sign books! Don’t miss this fun night! More details about how to RSVP available soon!
URL:https://foodiebars.com/event/gift-ideas-can-we-give-the-gift-of-health/
LOCATION:Baagan\, 2620 Sunset Blvd\, Unit 1\, Rocklin\, CA\, 95677\, United States
END:VEVENT
END:VCALENDAR