BEGIN:VCALENDAR
VERSION:2.0
PRODID:-//Foodie Bars - ECPv5.4.0.2//NONSGML v1.0//EN
CALSCALE:GREGORIAN
METHOD:PUBLISH
X-WR-CALNAME:Foodie Bars
X-ORIGINAL-URL:https://foodiebars.com
X-WR-CALDESC:Events for Foodie Bars
BEGIN:VTIMEZONE
TZID:UTC
BEGIN:STANDARD
TZOFFSETFROM:+0000
TZOFFSETTO:+0000
TZNAME:UTC
DTSTART:20160101T000000
END:STANDARD
END:VTIMEZONE
BEGIN:VEVENT
DTSTART;TZID=UTC:20160524T183000
DTEND;TZID=UTC:20160524T200000
DTSTAMP:20260423T190546
CREATED:20160523T175820Z
LAST-MODIFIED:20160523T175842Z
UID:400-1464114600-1464120000@foodiebars.com
SUMMARY:Guest Chef for CHIP Program in Lodi
DESCRIPTION:At 6:30 p.m. I will be a guest chef for the CHIP (Complete Health Improvement Program) class in the English Oaks Fellowship Hall (1260 W Century Blvd. Lodi\, CA 95240). If you are interested in attending and tasting my food please call the church office at 209-369-1021 to RSVP. The cost is $5.00 and you must register by noon on Monday\, May 23 to attend.
URL:https://foodiebars.com/event/guest-chef-for-chip-program-in-lodi/
ATTACH;FMTTYPE=image/jpeg:https://foodiebars.com/wp-content/uploads/2016/02/CurryTunaonCrackers2.jpg
END:VEVENT
END:VCALENDAR