BEGIN:VCALENDAR
VERSION:2.0
PRODID:-//Foodie Bars - ECPv5.4.0.2//NONSGML v1.0//EN
CALSCALE:GREGORIAN
METHOD:PUBLISH
X-WR-CALNAME:Foodie Bars
X-ORIGINAL-URL:https://foodiebars.com
X-WR-CALDESC:Events for Foodie Bars
BEGIN:VTIMEZONE
TZID:UTC
BEGIN:STANDARD
TZOFFSETFROM:+0000
TZOFFSETTO:+0000
TZNAME:UTC
DTSTART:20170101T000000
END:STANDARD
END:VTIMEZONE
BEGIN:VEVENT
DTSTART;TZID=UTC:20170212T163000
DTEND;TZID=UTC:20170212T183000
DTSTAMP:20260423T185313
CREATED:20170203T185429Z
LAST-MODIFIED:20170203T185541Z
UID:1647-1486917000-1486924200@foodiebars.com
SUMMARY:Loaded Potato Foodie Bar Potluck\, Demo\, and Book Signing
DESCRIPTION:Start off the week of Valentine’s Day with Registered Dietitian Timaree Hagenburger\, “The Nutrition Professor\,” and “Love the Food that Loves You Back”! \nJoin SVS and Timaree\, brainchild behind the “Foodie Bar” concept\, for round two—we had so much fun at the July potluck\, we’re doing it again!\n \nIf you caught Timaree’s SacTown VegFest talks this year and last\, you know how accessible and entertaining her informative presentations can be. If you didn’t\, now’s your chance! \nWhat’s a Foodie Bar? Foodie Bar Potlucks are the BEST!  \n• Everyone chooses one or more tasty items from our online sign-up list* of plant-based foods to bring to this fun\, interactive event. If you have a copy of “The Foodie Bar Way\,” you can choose one of the listed recipes from the book. \n• We’ll set out all of the topping options\, then bring out the baked potatoes… \n• Each of us will get busy loading a potato just the way we like it! \n• Enjoy a feast with lip-smacking options for everyone! \nDessert-related cooking demonstration: Timaree will wow us with a quick\, easy\, healthful\, delicious sweet treat. \nBook Signing: Timaree will be honored to sign copies of her book “The Foodie Bar Way” (a great addition to your kitchen\, and a perfect gift idea for Valentine’s Day)! It is such a fun way to support those who mean the most to you by helping them Love The Food That Loves Them Back\, too! \nAny questions? Email sacveggie@gmail.com  \nParking: Free\, off-street\, and lots of it. Just one block from the T Street bike path. \nEveryone is welcome. Bring your friends\, family\, neighbors\, co-workers\, etc.! \n*Here are the full instructions for signup.com:\n1. Click this link to see our SignUp on SignUp.com: http://signup.com/go/E2oz68\n2. Review the options listed and choose the spot(s) you like.\n3. Sign up! It’s Easy—you will NOT need to register an account or keep a password on SignUp.com. \nNote: SignUp.com does not share your e-mail address with anyone. If you prefer not to use your e-mail address\, please contact us at sacveggie.com so we can sign you up manually.
URL:https://foodiebars.com/event/loaded-potato-foodie-bar-potluck-demo-and-book-signing/
LOCATION:CSG Hall – There are three buildings on the property. Come in the rear entrance of the single-story white “house” with a vegetable garden in front.\, 3830 U Street\, Sacramento\, CA\, 95817\, United States
ATTACH;FMTTYPE=image/jpeg:https://foodiebars.com/wp-content/uploads/2017/02/SouthwesternLoadedPotatoHagenburger.jpg
END:VEVENT
END:VCALENDAR