BEGIN:VCALENDAR
VERSION:2.0
PRODID:-//Foodie Bars - ECPv5.4.0.2//NONSGML v1.0//EN
CALSCALE:GREGORIAN
METHOD:PUBLISH
X-WR-CALNAME:Foodie Bars
X-ORIGINAL-URL:https://foodiebars.com
X-WR-CALDESC:Events for Foodie Bars
BEGIN:VTIMEZONE
TZID:UTC
BEGIN:STANDARD
TZOFFSETFROM:+0000
TZOFFSETTO:+0000
TZNAME:UTC
DTSTART:20180101T000000
END:STANDARD
END:VTIMEZONE
BEGIN:VEVENT
DTSTART;TZID=UTC:20180128T110000
DTEND;TZID=UTC:20180128T160000
DTSTAMP:20260423T161103
CREATED:20180103T222102Z
LAST-MODIFIED:20180103T222121Z
UID:1730-1517137200-1517155200@foodiebars.com
SUMMARY:SacTown VegFest 2018!
DESCRIPTION:I can’t wait for this year’s SacTown VegFest! It will be a wonderful day full of fun and facts! I am going to be speaking about protecting your most valuable asset… and even add on some bonus content about the Dinosaur Effect! Bring family and friends\, as this no-cost event is a great opportunity to strengthen your connections to each other and good health!
URL:https://foodiebars.com/event/sactown-vegfest-2018/
LOCATION:Sacramento High School\, 2315 34th Street\, Sacramento\, CA\, 95817\, United States
END:VEVENT
END:VCALENDAR