BEGIN:VCALENDAR
VERSION:2.0
PRODID:-//Foodie Bars - ECPv5.4.0.2//NONSGML v1.0//EN
CALSCALE:GREGORIAN
METHOD:PUBLISH
X-WR-CALNAME:Foodie Bars
X-ORIGINAL-URL:https://foodiebars.com
X-WR-CALDESC:Events for Foodie Bars
BEGIN:VTIMEZONE
TZID:UTC
BEGIN:STANDARD
TZOFFSETFROM:+0000
TZOFFSETTO:+0000
TZNAME:UTC
DTSTART:20170101T000000
END:STANDARD
END:VTIMEZONE
BEGIN:VEVENT
DTSTART;TZID=UTC:20170128T110000
DTEND;TZID=UTC:20170128T160000
DTSTAMP:20260423T190023
CREATED:20170125T024324Z
LAST-MODIFIED:20170125T024324Z
UID:1638-1485601200-1485619200@foodiebars.com
SUMMARY:SacTown VegFest - Don't miss it!
DESCRIPTION:This is going to be a great event! Timaree is among a list of super speakers! Last year had an amazing turnout and fun was had by all! Bring your family and friends!
URL:https://foodiebars.com/event/sactown-vegfest-dont-miss-it/
LOCATION:Sacramento High School\, 2315 34th Street\, Sacramento\, CA\, 95817\, United States
END:VEVENT
END:VCALENDAR