BEGIN:VCALENDAR
VERSION:2.0
PRODID:-//Foodie Bars - ECPv5.4.0.2//NONSGML v1.0//EN
CALSCALE:GREGORIAN
METHOD:PUBLISH
X-WR-CALNAME:Foodie Bars
X-ORIGINAL-URL:https://foodiebars.com
X-WR-CALDESC:Events for Foodie Bars
BEGIN:VTIMEZONE
TZID:UTC
BEGIN:STANDARD
TZOFFSETFROM:+0000
TZOFFSETTO:+0000
TZNAME:UTC
DTSTART:20160101T000000
END:STANDARD
END:VTIMEZONE
BEGIN:VEVENT
DTSTART;TZID=UTC:20160814T170000
DTEND;TZID=UTC:20160814T190000
DTSTAMP:20260423T185813
CREATED:20160720T062311Z
LAST-MODIFIED:20160720T062311Z
UID:452-1471194000-1471201200@foodiebars.com
SUMMARY:Use Your Fork to Protect Your Brain
DESCRIPTION:Join me for an eye-opening talk about the changes that can be seen in the brain as dementia and Alzheimer’s Disease develop and the roles that nutrition and genetics play in the process. Learn practical strategies for protecting your most valuable asset! I’ll even demonstrate a few recipes\, including my Curry Zuna. We will have samples for you to taste! Copies of The Foodie Bar Way will also be available to purchase (I’ll be honored to sign them).  Please RSVP at 209-334-1844 or office@fairmontsda.org
URL:https://foodiebars.com/event/use-your-fork-to-protect-your-brain/
LOCATION:Fairmont Seventh-day Adventist\, 730 S. Fairmont Avenue\, Lodi\, CA\, 95240\, United States
ATTACH;FMTTYPE=image/jpeg:https://foodiebars.com/wp-content/uploads/2016/02/CurryTuno.jpg
END:VEVENT
END:VCALENDAR