BEGIN:VCALENDAR
VERSION:2.0
PRODID:-//Foodie Bars - ECPv5.4.0.2//NONSGML v1.0//EN
CALSCALE:GREGORIAN
METHOD:PUBLISH
X-WR-CALNAME:Foodie Bars
X-ORIGINAL-URL:https://foodiebars.com
X-WR-CALDESC:Events for Foodie Bars
BEGIN:VTIMEZONE
TZID:UTC
BEGIN:STANDARD
TZOFFSETFROM:+0000
TZOFFSETTO:+0000
TZNAME:UTC
DTSTART:20170101T000000
END:STANDARD
END:VTIMEZONE
BEGIN:VEVENT
DTSTART;VALUE=DATE:20170711
DTEND;VALUE=DATE:20170714
DTSTAMP:20260423T190231
CREATED:20170125T020040Z
LAST-MODIFIED:20170125T020040Z
UID:1623-1499731200-1499990399@foodiebars.com
SUMMARY:Vegetarian Society of Hawaii
DESCRIPTION:Timaree will be speaking in Honolulu and Maui to the Vegetarian Society of Hawaii in July! More details to come!
URL:https://foodiebars.com/event/vegetarian-society-of-hawaii/
END:VEVENT
END:VCALENDAR